BEGIN:VCALENDAR
VERSION:2.0
PRODID:icalendar-ruby
CALSCALE:GREGORIAN
METHOD:PUBLISH
BEGIN:VEVENT
DTSTAMP:20260422T071217Z
UID:10-1608218@cumberlandofmarshall.org
DTSTART:20260922T210000Z
DTEND:20260922T220000Z
CLASS:PUBLIC
CREATED:20260421T193551
DESCRIPTION:
LAST-MODIFIED:20260421T193551
LOCATION:
SUMMARY:Small Group
URL;VALUE=URI:https://www.cumberlandofmarshall.org/events/small-group/2026-
 09-22
END:VEVENT
END:VCALENDAR
