BEGIN:VCALENDAR
VERSION:2.0
PRODID:icalendar-ruby
CALSCALE:GREGORIAN
METHOD:PUBLISH
BEGIN:VEVENT
DTSTAMP:20260422T112309Z
UID:10-1608221@cumberlandofmarshall.org
DTSTART:20261013T210000Z
DTEND:20261013T220000Z
CLASS:PUBLIC
CREATED:20260421T193551
DESCRIPTION:
LAST-MODIFIED:20260421T193551
LOCATION:
SUMMARY:Small Group
URL;VALUE=URI:https://www.cumberlandofmarshall.org/events/small-group/2026-
 10-13
END:VEVENT
END:VCALENDAR
