BEGIN:VCALENDAR
VERSION:2.0
PRODID:icalendar-ruby
CALSCALE:GREGORIAN
METHOD:PUBLISH
BEGIN:VEVENT
DTSTAMP:20260422T123951Z
UID:10-1609235@cumberlandofmarshall.org
DTSTART:20261020T210000Z
DTEND:20261020T220000Z
CLASS:PUBLIC
CREATED:20260422T063824
DESCRIPTION:
LAST-MODIFIED:20260422T063824
LOCATION:
SUMMARY:Small Group
URL;VALUE=URI:https://www.cumberlandofmarshall.org/events/small-group/2026-
 10-20
END:VEVENT
END:VCALENDAR
