BEGIN:VCALENDAR
VERSION:2.0
PRODID:icalendar-ruby
CALSCALE:GREGORIAN
METHOD:PUBLISH
BEGIN:VEVENT
DTSTAMP:20260422T153627Z
UID:10-1610250@cumberlandofmarshall.org
DTSTART:20261103T220000Z
DTEND:20261103T230000Z
CLASS:PUBLIC
CREATED:20260422T093315
DESCRIPTION:
LAST-MODIFIED:20260422T093315
LOCATION:
SUMMARY:Small Group
URL;VALUE=URI:https://www.cumberlandofmarshall.org/events/small-group/2026-
 11-03
END:VEVENT
END:VCALENDAR
