BEGIN:VCALENDAR
VERSION:2.0
PRODID:icalendar-ruby
CALSCALE:GREGORIAN
METHOD:PUBLISH
BEGIN:VEVENT
DTSTAMP:20260425T170323Z
UID:9-1629360@cumberlandofmarshall.org
DTSTART:20260916T003000Z
DTEND:20260916T020000Z
CLASS:PUBLIC
CREATED:20260425T115257
DESCRIPTION:
LAST-MODIFIED:20260425T115257
LOCATION:
SUMMARY:Spanish Bible Study
URL;VALUE=URI:https://www.cumberlandofmarshall.org/events/spanish-bible-stu
 dy/2026-09-15
END:VEVENT
END:VCALENDAR
