BEGIN:VCALENDAR
VERSION:2.0
PRODID:icalendar-ruby
CALSCALE:GREGORIAN
METHOD:PUBLISH
BEGIN:VEVENT
DTSTAMP:20260425T202419Z
UID:9-1630378@cumberlandofmarshall.org
DTSTART:20260930T003000Z
DTEND:20260930T020000Z
CLASS:PUBLIC
CREATED:20260425T143349
DESCRIPTION:
LAST-MODIFIED:20260425T143349
LOCATION:
SUMMARY:Spanish Bible Study
URL;VALUE=URI:https://www.cumberlandofmarshall.org/events/spanish-bible-stu
 dy/2026-09-29
END:VEVENT
END:VCALENDAR
