BEGIN:VCALENDAR
VERSION:2.0
PRODID:icalendar-ruby
CALSCALE:GREGORIAN
METHOD:PUBLISH
BEGIN:VEVENT
DTSTAMP:20260425T235408Z
UID:9-1631396@cumberlandofmarshall.org
DTSTART:20261014T003000Z
DTEND:20261014T020000Z
CLASS:PUBLIC
CREATED:20260425T171612
DESCRIPTION:
LAST-MODIFIED:20260425T171612
LOCATION:
SUMMARY:Spanish Bible Study
URL;VALUE=URI:https://www.cumberlandofmarshall.org/events/spanish-bible-stu
 dy/2026-10-13
END:VEVENT
END:VCALENDAR
