BEGIN:VCALENDAR
VERSION:2.0
PRODID:icalendar-ruby
CALSCALE:GREGORIAN
METHOD:PUBLISH
BEGIN:VEVENT
DTSTAMP:20260426T032837Z
UID:9-1632414@cumberlandofmarshall.org
DTSTART:20261028T003000Z
DTEND:20261028T020000Z
CLASS:PUBLIC
CREATED:20260425T195850
DESCRIPTION:
LAST-MODIFIED:20260425T195850
LOCATION:
SUMMARY:Spanish Bible Study
URL;VALUE=URI:https://www.cumberlandofmarshall.org/events/spanish-bible-stu
 dy/2026-10-27
END:VEVENT
END:VCALENDAR
