BEGIN:VCALENDAR
VERSION:2.0
PRODID:icalendar-ruby
CALSCALE:GREGORIAN
METHOD:PUBLISH
BEGIN:VEVENT
DTSTAMP:20260422T015749Z
UID:3-1607886@cumberlandofmarshall.org
DTSTART:20260726T163000Z
DTEND:20260726T173000Z
CLASS:PUBLIC
CREATED:20260421T193550
DESCRIPTION:Join David Montoya in our Spanish Speaking Service which includ
 es contemporary music with our worship team.
LAST-MODIFIED:20260421T193550
LOCATION:
SUMMARY:Spanish Service
URL;VALUE=URI:https://www.cumberlandofmarshall.org/events/spanish-service/2
 026-07-26
ATTACH;FILENAME=Picture1.jpg;FMTTYPE=image/jpeg:https://dq5pwpg1q8ru0.cloud
 front.net/2024/03/17/02/27/02/4e7dd727-3873-41bc-a6f5-3725a37c484e/Picture
 1.jpg
END:VEVENT
END:VCALENDAR
