BEGIN:VCALENDAR
VERSION:2.0
PRODID:icalendar-ruby
CALSCALE:GREGORIAN
METHOD:PUBLISH
BEGIN:VEVENT
DTSTAMP:20260422T214857Z
UID:3-1611950@cumberlandofmarshall.org
DTSTART:20261025T163000Z
DTEND:20261025T173000Z
CLASS:PUBLIC
CREATED:20260422T152334
DESCRIPTION:Join David Montoya in our Spanish Speaking Service which includ
 es contemporary music with our worship team.
LAST-MODIFIED:20260422T152334
LOCATION:
SUMMARY:Spanish Service
URL;VALUE=URI:https://www.cumberlandofmarshall.org/events/spanish-service/2
 026-10-25
ATTACH;FILENAME=Picture1.jpg;FMTTYPE=image/jpeg:https://dq5pwpg1q8ru0.cloud
 front.net/2024/03/17/02/27/02/4e7dd727-3873-41bc-a6f5-3725a37c484e/Picture
 1.jpg
END:VEVENT
END:VCALENDAR
