BEGIN:VCALENDAR
VERSION:2.0
PRODID:icalendar-ruby
CALSCALE:GREGORIAN
METHOD:PUBLISH
BEGIN:VEVENT
DTSTAMP:20260424T105354Z
UID:13-1620706@cumberlandofmarshall.org
DTSTART:20260924T223000Z
DTEND:20260925T000000Z
CLASS:PUBLIC
CREATED:20260423T211124
DESCRIPTION:
LAST-MODIFIED:20260423T211124
LOCATION:
SUMMARY:Worship Team Practice
URL;VALUE=URI:https://www.cumberlandofmarshall.org/events/worship-team-prac
 tice/2026-09-24
END:VEVENT
END:VCALENDAR
