BEGIN:VCALENDAR
VERSION:2.0
PRODID:icalendar-ruby
CALSCALE:GREGORIAN
METHOD:PUBLISH
BEGIN:VEVENT
DTSTAMP:20260424T140111Z
UID:13-1621724@cumberlandofmarshall.org
DTSTART:20261008T223000Z
DTEND:20261009T000000Z
CLASS:PUBLIC
CREATED:20260424T063943
DESCRIPTION:
LAST-MODIFIED:20260424T063943
LOCATION:
SUMMARY:Worship Team Practice
URL;VALUE=URI:https://www.cumberlandofmarshall.org/events/worship-team-prac
 tice/2026-10-08
END:VEVENT
END:VCALENDAR
