BEGIN:VCALENDAR
VERSION:2.0
PRODID:icalendar-ruby
CALSCALE:GREGORIAN
METHOD:PUBLISH
BEGIN:VEVENT
DTSTAMP:20260424T154402Z
UID:13-1622741@cumberlandofmarshall.org
DTSTART:20261015T223000Z
DTEND:20261016T000000Z
CLASS:PUBLIC
CREATED:20260424T093323
DESCRIPTION:
LAST-MODIFIED:20260424T093323
LOCATION:
SUMMARY:Worship Team Practice
URL;VALUE=URI:https://www.cumberlandofmarshall.org/events/worship-team-prac
 tice/2026-10-15
END:VEVENT
END:VCALENDAR
