BEGIN:VCALENDAR
VERSION:2.0
PRODID:icalendar-ruby
CALSCALE:GREGORIAN
METHOD:PUBLISH
BEGIN:VEVENT
DTSTAMP:20260424T203429Z
UID:13-1624776@cumberlandofmarshall.org
DTSTART:20261105T233000Z
DTEND:20261106T010000Z
CLASS:PUBLIC
CREATED:20260424T150809
DESCRIPTION:
LAST-MODIFIED:20260424T150809
LOCATION:
SUMMARY:Worship Team Practice
URL;VALUE=URI:https://www.cumberlandofmarshall.org/events/worship-team-prac
 tice/2026-11-05
END:VEVENT
END:VCALENDAR
